BEGIN:VCALENDAR
VERSION:2.0
PRODID:-//Work Play Give Philanthropic Solutions - ECPv6.11.2.1//NONSGML v1.0//EN
CALSCALE:GREGORIAN
METHOD:PUBLISH
X-ORIGINAL-URL:https://www.workplaygive.net
X-WR-CALDESC:Events for Work Play Give Philanthropic Solutions
REFRESH-INTERVAL;VALUE=DURATION:PT1H
X-Robots-Tag:noindex
X-PUBLISHED-TTL:PT1H
BEGIN:VTIMEZONE
TZID:America/New_York
BEGIN:DAYLIGHT
TZOFFSETFROM:-0500
TZOFFSETTO:-0400
TZNAME:EDT
DTSTART:20180311T070000
END:DAYLIGHT
BEGIN:STANDARD
TZOFFSETFROM:-0400
TZOFFSETTO:-0500
TZNAME:EST
DTSTART:20181104T060000
END:STANDARD
END:VTIMEZONE
BEGIN:VEVENT
DTSTART;TZID=America/New_York:20181017T163000
DTEND;TZID=America/New_York:20181017T220000
DTSTAMP:20260419T190636
CREATED:20181012T170601Z
LAST-MODIFIED:20181012T171537Z
UID:39-1539793800-1539813600@www.workplaygive.net
SUMMARY:Real Dog Rescue's 2nd Annual Tricky Tray Dinner & Fundraiser
DESCRIPTION:If you love dogs… \nPlease join us for our 2nd Annual Tricky Tray Dinner & Fundraiser! \nDoors open at 4:30pm – Drawing begins at 7:30pm. \n$60 per person (in advance) includes a four-course meal and sheet fo green prize tickets. \nto purchase tickets visit: \nrealdogrescue.org/trickytray
URL:https://www.workplaygive.net/event/real-dog-rescues-2nd-annual-tricky-tray-dinner-fundraiser/
LOCATION:The Tides Estate\, 1245 Belmont Ave\, North Haledon\, NJ\, 07508\, United States
CATEGORIES:Animal Event
ATTACH;FMTTYPE=image/jpeg:https://www.workplaygive.net/wordpress/wp-content/uploads/2018/10/dog6.jpg
END:VEVENT
END:VCALENDAR