BEGIN:VCALENDAR
VERSION:2.0
PRODID:-//Work Play Give Philanthropic Solutions - ECPv6.11.2.1//NONSGML v1.0//EN
CALSCALE:GREGORIAN
METHOD:PUBLISH
X-WR-CALNAME:Work Play Give Philanthropic Solutions
X-ORIGINAL-URL:https://www.workplaygive.net
X-WR-CALDESC:Events for Work Play Give Philanthropic Solutions
REFRESH-INTERVAL;VALUE=DURATION:PT1H
X-Robots-Tag:noindex
X-PUBLISHED-TTL:PT1H
BEGIN:VTIMEZONE
TZID:America/New_York
BEGIN:DAYLIGHT
TZOFFSETFROM:-0500
TZOFFSETTO:-0400
TZNAME:EDT
DTSTART:20180311T070000
END:DAYLIGHT
BEGIN:STANDARD
TZOFFSETFROM:-0400
TZOFFSETTO:-0500
TZNAME:EST
DTSTART:20181104T060000
END:STANDARD
BEGIN:DAYLIGHT
TZOFFSETFROM:-0500
TZOFFSETTO:-0400
TZNAME:EDT
DTSTART:20190310T070000
END:DAYLIGHT
BEGIN:STANDARD
TZOFFSETFROM:-0400
TZOFFSETTO:-0500
TZNAME:EST
DTSTART:20191103T060000
END:STANDARD
END:VTIMEZONE
BEGIN:VEVENT
DTSTART;TZID=America/New_York:20190207T110000
DTEND;TZID=America/New_York:20190207T140000
DTSTAMP:20260419T135943
CREATED:20181127T233756Z
LAST-MODIFIED:20181220T212554Z
UID:171-1549537200-1549548000@www.workplaygive.net
SUMMARY:Monmouth County Historical Association Red Luncheon
DESCRIPTION:Monmouth County Historical Association Red Luncheon \nThursday\, February 7\, 2018 at Rumson Country Club\, Rumson\, NJ \nJoin us February 7\, 2019 for our Annual Red Ladies Valentine Luncheon. More details to come. \nShop boutique vendors featuring unique items ranging from jewelry and clothing to home décor. Bid on a wide variety of auction items and take a chance (or two) on the grand prize! All proceeds from Red benefit the important work of the Association. Celebrate your friends while supporting a good cause!
URL:https://www.workplaygive.net/event/monmouth-county-historical-association-red-luncheon/
LOCATION:Rumson Country Club\, Rumson\, New Jersey\, United States
CATEGORIES:Holiday Event
END:VEVENT
BEGIN:VEVENT
DTSTART;TZID=America/New_York:20181208T173000
DTEND;TZID=America/New_York:20181208T193000
DTSTAMP:20260419T135943
CREATED:20181127T233226Z
LAST-MODIFIED:20181127T234035Z
UID:168-1544290200-1544297400@www.workplaygive.net
SUMMARY:Monmouth County Historical Association Under the Mistletoe
DESCRIPTION:Monmouth County Historical Association Under the Mistletoe \nSaturday\, December 8\, 2018 at Taylor-Butler House\, Middletown\, NJ \nJoin us for our Second Annual Mistletoe on Saturday\, December 8\, 2018! More details to come! This Victorian gem in the heart of historic Middletown will have its halls decked\, an Old-Fashioned bar stocked and chestnuts roasting on the fire awaiting your arrival to mix and mingle with friends old and new. Come join in the merriment!
URL:https://www.workplaygive.net/event/monmouth-county-historical-association-under-the-mistletoe/
LOCATION:Taylor-Butler House\, 127 Kings Hwy.\,\, Middletown\, NJ\, 07748\, United States
CATEGORIES:Holiday Event
END:VEVENT
END:VCALENDAR