BEGIN:VCALENDAR
VERSION:2.0
PRODID:-//Work Play Give Philanthropic Solutions - ECPv6.11.2.1//NONSGML v1.0//EN
CALSCALE:GREGORIAN
METHOD:PUBLISH
X-WR-CALNAME:Work Play Give Philanthropic Solutions
X-ORIGINAL-URL:https://www.workplaygive.net
X-WR-CALDESC:Events for Work Play Give Philanthropic Solutions
REFRESH-INTERVAL;VALUE=DURATION:PT1H
X-Robots-Tag:noindex
X-PUBLISHED-TTL:PT1H
BEGIN:VTIMEZONE
TZID:America/New_York
BEGIN:DAYLIGHT
TZOFFSETFROM:-0500
TZOFFSETTO:-0400
TZNAME:EDT
DTSTART:20180311T070000
END:DAYLIGHT
BEGIN:STANDARD
TZOFFSETFROM:-0400
TZOFFSETTO:-0500
TZNAME:EST
DTSTART:20181104T060000
END:STANDARD
END:VTIMEZONE
BEGIN:VEVENT
DTSTART;VALUE=DATE:20181207
DTEND;VALUE=DATE:20181208
DTSTAMP:20260419T172402
CREATED:20181127T232653Z
LAST-MODIFIED:20181127T232728Z
UID:165-1544140800-1544227199@www.workplaygive.net
SUMMARY:VNA Holiday House Tour
DESCRIPTION:VNA Holiday House Tour \nFriday\, December 7\, 2018 in Rumson\, Fair Haven\, Little Silver\, NJ
URL:https://www.workplaygive.net/event/vna-holiday-house-tour/
CATEGORIES:Holiday House Tour
END:VEVENT
END:VCALENDAR