BEGIN:VCALENDAR
VERSION:2.0
PRODID:-//Work Play Give Philanthropic Solutions - ECPv6.11.2.1//NONSGML v1.0//EN
CALSCALE:GREGORIAN
METHOD:PUBLISH
X-ORIGINAL-URL:https://www.workplaygive.net
X-WR-CALDESC:Events for Work Play Give Philanthropic Solutions
REFRESH-INTERVAL;VALUE=DURATION:PT1H
X-Robots-Tag:noindex
X-PUBLISHED-TTL:PT1H
BEGIN:VTIMEZONE
TZID:America/New_York
BEGIN:DAYLIGHT
TZOFFSETFROM:-0500
TZOFFSETTO:-0400
TZNAME:EDT
DTSTART:20200308T070000
END:DAYLIGHT
BEGIN:STANDARD
TZOFFSETFROM:-0400
TZOFFSETTO:-0500
TZNAME:EST
DTSTART:20201101T060000
END:STANDARD
END:VTIMEZONE
BEGIN:VEVENT
DTSTART;TZID=America/New_York:20201204T000000
DTEND;TZID=America/New_York:20201204T000000
DTSTAMP:20260423T181917
CREATED:20200406T232144Z
LAST-MODIFIED:20200407T145444Z
UID:982-1607040000-1607040000@www.workplaygive.net
SUMMARY:Arc of Monmouth - Gala
DESCRIPTION:Gala
URL:https://www.workplaygive.net/event/arc-of-monmouth-gala/
LOCATION:TBD\, United States
CATEGORIES:Gala
END:VEVENT
BEGIN:VEVENT
DTSTART;TZID=America/New_York:20201203T000000
DTEND;TZID=America/New_York:20201203T000000
DTSTAMP:20260423T181918
CREATED:20200406T232144Z
LAST-MODIFIED:20200407T145402Z
UID:981-1606953600-1606953600@www.workplaygive.net
SUMMARY:Monmouth Conservation Foundation - Holiday Luncheon
DESCRIPTION:Holiday Luncheon
URL:https://www.workplaygive.net/event/monmouth-conservation-foundation-holiday-luncheon/
LOCATION:Shadowbrook\, United States
CATEGORIES:Dinner
END:VEVENT
BEGIN:VEVENT
DTSTART;TZID=America/New_York:20201130T000000
DTEND;TZID=America/New_York:20201130T000000
DTSTAMP:20260423T181918
CREATED:20200406T232142Z
LAST-MODIFIED:20200407T145310Z
UID:980-1606694400-1606694400@www.workplaygive.net
SUMMARY:Monmouth Conservation Foundation - Winter Dinner
DESCRIPTION:Winter Dinner
URL:https://www.workplaygive.net/event/monmouth-conservation-foundation-winter-dinner/
LOCATION:Triumph Brewery\, United States
CATEGORIES:Dinner
END:VEVENT
BEGIN:VEVENT
DTSTART;TZID=America/New_York:20201025T090000
DTEND;TZID=America/New_York:20201025T090000
DTSTAMP:20260423T181918
CREATED:20200206T155332Z
LAST-MODIFIED:20200407T145207Z
UID:857-1603616400-1603616400@www.workplaygive.net
SUMMARY:Big Brothers Big Sisters - Halloweekend 5K
DESCRIPTION:Big Brothers Big Sisters
URL:https://www.workplaygive.net/event/halloweekend-5k/
LOCATION:Wyndham Hotel Parsippany\, Parsippany\, New Jersey\, United States
CATEGORIES:Run
END:VEVENT
BEGIN:VEVENT
DTSTART;TZID=America/New_York:20201023T000000
DTEND;TZID=America/New_York:20201023T000000
DTSTAMP:20260423T181918
CREATED:20200406T232142Z
LAST-MODIFIED:20200407T145019Z
UID:979-1603411200-1603411200@www.workplaygive.net
SUMMARY:YMCA Greater Monmouth - Gala
DESCRIPTION:Gala
URL:https://www.workplaygive.net/event/ymca-greater-monmouth-gala/
LOCATION:TBD\, United States
CATEGORIES:Gala
END:VEVENT
BEGIN:VEVENT
DTSTART;TZID=America/New_York:20201022T000000
DTEND;TZID=America/New_York:20201022T000000
DTSTAMP:20260423T181918
CREATED:20200406T232141Z
LAST-MODIFIED:20200407T144904Z
UID:978-1603324800-1603324800@www.workplaygive.net
SUMMARY:Mon Med Ctr So Campus Foundation - Food and Wine Event
DESCRIPTION:Food and Wine Event
URL:https://www.workplaygive.net/event/mon-med-ctr-so-campus-foundation-food-and-wine-event/
LOCATION:Pine Belt\, United States
CATEGORIES:Event
END:VEVENT
BEGIN:VEVENT
DTSTART;TZID=America/New_York:20201016T000000
DTEND;TZID=America/New_York:20201016T000000
DTSTAMP:20260423T181918
CREATED:20200406T232141Z
LAST-MODIFIED:20200407T144714Z
UID:977-1602806400-1602806400@www.workplaygive.net
SUMMARY:Mercy Center - Breakfast Event
DESCRIPTION:Breakfast Event
URL:https://www.workplaygive.net/event/mercy-center-breakfast-event/
LOCATION:Sisters Academy\, United States
CATEGORIES:Event
END:VEVENT
BEGIN:VEVENT
DTSTART;TZID=America/New_York:20201005T000000
DTEND;TZID=America/New_York:20201005T000000
DTSTAMP:20260423T181918
CREATED:20200406T232141Z
LAST-MODIFIED:20200407T144554Z
UID:976-1601856000-1601856000@www.workplaygive.net
SUMMARY:Preferred Behavioral Health - Golf Outing
DESCRIPTION:Golf Outing
URL:https://www.workplaygive.net/event/preferred-behavioral-health-golf-outing/
LOCATION:Hollywood Golf Club\, Deal\, New Jersey\, United States
CATEGORIES:Golf Event
END:VEVENT
BEGIN:VEVENT
DTSTART;TZID=America/New_York:20201003T000000
DTEND;TZID=America/New_York:20201003T000000
DTSTAMP:20260423T181918
CREATED:20200406T232140Z
LAST-MODIFIED:20200407T144504Z
UID:975-1601683200-1601683200@www.workplaygive.net
SUMMARY:Tigger House Foundation - Gala
DESCRIPTION:Gala
URL:https://www.workplaygive.net/event/tigger-house-foundation-gala/
LOCATION:TBD\, United States
CATEGORIES:Gala
END:VEVENT
BEGIN:VEVENT
DTSTART;TZID=America/New_York:20200926T000000
DTEND;TZID=America/New_York:20200926T000000
DTSTAMP:20260423T181918
CREATED:20200406T232139Z
LAST-MODIFIED:20200407T144417Z
UID:974-1601078400-1601078400@www.workplaygive.net
SUMMARY:Monmouth Conservation Foundation - Gala
DESCRIPTION:Gala
URL:https://www.workplaygive.net/event/monmouth-conservation-foundation-gala/
LOCATION:Rumson Country Club\, Rumson\, New Jersey\, United States
CATEGORIES:Gala
END:VEVENT
BEGIN:VEVENT
DTSTART;TZID=America/New_York:20200925T180000
DTEND;TZID=America/New_York:20200925T180000
DTSTAMP:20260423T181918
CREATED:20200206T155330Z
LAST-MODIFIED:20200406T203331Z
UID:856-1601056800-1601056800@www.workplaygive.net
SUMMARY:Red Cross - Red\, White and You Gala
DESCRIPTION:Red Cross
URL:https://www.workplaygive.net/event/red-white-and-you-gala-2/
LOCATION:The Oyster Point Hotel\, Red Bank\, New Jersey\, 07701\, United States
END:VEVENT
BEGIN:VEVENT
DTSTART;TZID=America/New_York:20200913T110000
DTEND;TZID=America/New_York:20200913T110000
DTSTAMP:20260423T181918
CREATED:20200206T155329Z
LAST-MODIFIED:20200407T144259Z
UID:855-1599994800-1599994800@www.workplaygive.net
SUMMARY:Monmouth Medical Center - Big Steps for Little Feet
DESCRIPTION:Monmouth Medical Center
URL:https://www.workplaygive.net/event/big-steps-for-little-feet-2/
LOCATION:Promenade Beach Front North\, Long Branch\, New Jersey\, United States
CATEGORIES:Event
END:VEVENT
BEGIN:VEVENT
DTSTART;TZID=America/New_York:20200825T000000
DTEND;TZID=America/New_York:20200825T000000
DTSTAMP:20260423T181918
CREATED:20200406T232139Z
LAST-MODIFIED:20200407T144206Z
UID:973-1598313600-1598313600@www.workplaygive.net
SUMMARY:MODC - Silver Gull
DESCRIPTION:Silver Gull
URL:https://www.workplaygive.net/event/modc-silver-gull/
LOCATION:Eagle Oaks Country Club\, 20 Shore Oaks Dr\, Farmingdale\, NJ\, 07727\, United States
CATEGORIES:Event
END:VEVENT
BEGIN:VEVENT
DTSTART;TZID=America/New_York:20200822T000000
DTEND;TZID=America/New_York:20200822T000000
DTSTAMP:20260423T181918
CREATED:20200406T232139Z
LAST-MODIFIED:20200407T144036Z
UID:972-1598054400-1598054400@www.workplaygive.net
SUMMARY:LADACIN - Gala
DESCRIPTION:Gala
URL:https://www.workplaygive.net/event/ladacin-gala/
LOCATION:Sheraton Eatontown\, United States
CATEGORIES:Gala
END:VEVENT
BEGIN:VEVENT
DTSTART;TZID=America/New_York:20200811T000000
DTEND;TZID=America/New_York:20200811T000000
DTSTAMP:20260423T181918
CREATED:20200406T232138Z
LAST-MODIFIED:20200407T143918Z
UID:971-1597104000-1597104000@www.workplaygive.net
SUMMARY:Tigger House Foundation - Candle Light Vigil
DESCRIPTION:Candle Light Vigil in Red Bank
URL:https://www.workplaygive.net/event/tigger-house-foundation-candle-light-vigil/
LOCATION:Red Bank\, United States
CATEGORIES:Event
END:VEVENT
BEGIN:VEVENT
DTSTART;TZID=America/New_York:20200810T000000
DTEND;TZID=America/New_York:20200810T000000
DTSTAMP:20260423T181918
CREATED:20200406T232138Z
LAST-MODIFIED:20200407T143709Z
UID:970-1597017600-1597017600@www.workplaygive.net
SUMMARY:Monmouth County WDB - Awards Dinner
DESCRIPTION:Awards Dinner
URL:https://www.workplaygive.net/event/monmouth-county-wdb-awards-dinner/
LOCATION:Jumping Brook CC\, United States
CATEGORIES:Dinner
END:VEVENT
BEGIN:VEVENT
DTSTART;TZID=America/New_York:20200810T000000
DTEND;TZID=America/New_York:20200810T000000
DTSTAMP:20260423T181918
CREATED:20200406T232137Z
LAST-MODIFIED:20200407T143603Z
UID:969-1597017600-1597017600@www.workplaygive.net
SUMMARY:United Way of M-O - Golf Outing
DESCRIPTION:Golf Outing
URL:https://www.workplaygive.net/event/united-way-of-m-o-golf-outing/
LOCATION:Hollywood Golf Club\, Deal\, New Jersey\, United States
CATEGORIES:Golf Event
END:VEVENT
BEGIN:VEVENT
DTSTART;TZID=America/New_York:20200803T000000
DTEND;TZID=America/New_York:20200803T000000
DTSTAMP:20260423T181918
CREATED:20200406T232137Z
LAST-MODIFIED:20200407T143409Z
UID:967-1596412800-1596412800@www.workplaygive.net
SUMMARY:First Tee - Colf Classic
DESCRIPTION:Colf Classic
URL:https://www.workplaygive.net/event/first-tee-colf-classic/
LOCATION:Metedeconk GC\, United States
CATEGORIES:Golf Event
END:VEVENT
BEGIN:VEVENT
DTSTART;TZID=America/New_York:20200803T000000
DTEND;TZID=America/New_York:20200803T000000
DTSTAMP:20260423T181918
CREATED:20200406T232137Z
LAST-MODIFIED:20200407T143514Z
UID:968-1596412800-1596412800@www.workplaygive.net
SUMMARY:Mon Med Ctr So Campus Foundation - Golf Outing
DESCRIPTION:Golf Outing
URL:https://www.workplaygive.net/event/mon-med-ctr-so-campus-foundation-golf-outing/
LOCATION:Eagle Oaks Country Club\, 20 Shore Oaks Dr\, Farmingdale\, NJ\, 07727\, United States
CATEGORIES:Golf Event
END:VEVENT
BEGIN:VEVENT
DTSTART;TZID=America/New_York:20200730T000000
DTEND;TZID=America/New_York:20200730T000000
DTSTAMP:20260423T181918
CREATED:20200406T232136Z
LAST-MODIFIED:20200407T143315Z
UID:966-1596067200-1596067200@www.workplaygive.net
SUMMARY:Girl Scouts of the JS - Gala
DESCRIPTION:Gala
URL:https://www.workplaygive.net/event/girl-scouts-of-the-js-gala/
LOCATION:Eagle Oaks Country Club\, 20 Shore Oaks Dr\, Farmingdale\, NJ\, 07727\, United States
CATEGORIES:Gala
END:VEVENT
BEGIN:VEVENT
DTSTART;TZID=America/New_York:20200730T000000
DTEND;TZID=America/New_York:20200730T000000
DTSTAMP:20260423T181918
CREATED:20200406T232135Z
LAST-MODIFIED:20200407T143154Z
UID:965-1596067200-1596067200@www.workplaygive.net
SUMMARY:CPC Behavioral Health - 60th Anniversary Gala
DESCRIPTION:60th Anniversary Gala
URL:https://www.workplaygive.net/event/cpc-behavioral-health-60th-anniversary-gala/
LOCATION:Navesink Country Club\, Middletown\, New Jersey\, United States
CATEGORIES:Golf Event
END:VEVENT
BEGIN:VEVENT
DTSTART;TZID=America/New_York:20200720T080000
DTEND;TZID=America/New_York:20200720T080000
DTSTAMP:20260423T181918
CREATED:20200206T155327Z
LAST-MODIFIED:20200406T203420Z
UID:854-1595232000-1595232000@www.workplaygive.net
SUMMARY:Big Brothers Big Sisters - FORE! The Kids Golf Outing
DESCRIPTION:Big Brothers Big Sisters
URL:https://www.workplaygive.net/event/fore-the-kids-golf-outing/
LOCATION:Manasquan River Golf Club\, Manasquan\, New Jersey\, United States
END:VEVENT
BEGIN:VEVENT
DTSTART;TZID=America/New_York:20200713T000000
DTEND;TZID=America/New_York:20200713T000000
DTSTAMP:20260423T181918
CREATED:20200406T232134Z
LAST-MODIFIED:20200407T142959Z
UID:963-1594598400-1594598400@www.workplaygive.net
SUMMARY:MODC - Golf Outing
DESCRIPTION:Golf Outing
URL:https://www.workplaygive.net/event/modc-golf-outing/
LOCATION:Battleground CC\, United States
CATEGORIES:Golf Event
END:VEVENT
BEGIN:VEVENT
DTSTART;TZID=America/New_York:20200713T000000
DTEND;TZID=America/New_York:20200713T000000
DTSTAMP:20260423T181918
CREATED:20200406T232134Z
LAST-MODIFIED:20200407T143059Z
UID:964-1594598400-1594598400@www.workplaygive.net
SUMMARY:Family Resource Associates - Golf Outing
DESCRIPTION:Golf Outing
URL:https://www.workplaygive.net/event/family-resource-associates-golf-outing/
LOCATION:Navesink Country Club\, Middletown\, New Jersey\, United States
CATEGORIES:Golf Event
END:VEVENT
BEGIN:VEVENT
DTSTART;TZID=America/New_York:20200629T000000
DTEND;TZID=America/New_York:20200629T000000
DTSTAMP:20260423T181918
CREATED:20200406T232134Z
LAST-MODIFIED:20200407T142840Z
UID:962-1593388800-1593388800@www.workplaygive.net
SUMMARY:Arc of Monmouth - Golf Outing
DESCRIPTION:Golf Outing
URL:https://www.workplaygive.net/event/arc-of-monmouth-golf-outing/
LOCATION:Beacon Hill CC\, United States
CATEGORIES:Golf Event
END:VEVENT
BEGIN:VEVENT
DTSTART;TZID=America/New_York:20200625T000000
DTEND;TZID=America/New_York:20200625T000000
DTSTAMP:20260423T181918
CREATED:20200406T232134Z
LAST-MODIFIED:20200407T142733Z
UID:961-1593043200-1593043200@www.workplaygive.net
SUMMARY:Tigger House Foundation - Yoga Event
DESCRIPTION:Yoga Event
URL:https://www.workplaygive.net/event/tigger-house-foundation-yoga-event/
LOCATION:Edgewater Beach and Cabana Club\, Sea Bright\, New Jersey\, United States
CATEGORIES:Event
END:VEVENT
BEGIN:VEVENT
DTSTART;TZID=America/New_York:20200615T000000
DTEND;TZID=America/New_York:20200615T000000
DTSTAMP:20260423T181918
CREATED:20200406T232132Z
LAST-MODIFIED:20200407T142624Z
UID:960-1592179200-1592179200@www.workplaygive.net
SUMMARY:LADACIN - Golf Outing
DESCRIPTION:Golf Outing
URL:https://www.workplaygive.net/event/ladacin-golf-outing/
LOCATION:Jumping Brook CC\, United States
CATEGORIES:Golf Event
END:VEVENT
BEGIN:VEVENT
DTSTART;TZID=America/New_York:20200613T000000
DTEND;TZID=America/New_York:20200613T000000
DTSTAMP:20260423T181918
CREATED:20200406T232132Z
LAST-MODIFIED:20200407T142525Z
UID:959-1592006400-1592006400@www.workplaygive.net
SUMMARY:United Way of M-O - Food Truck Festival
DESCRIPTION:Food Truck Festival
URL:https://www.workplaygive.net/event/united-way-of-m-o-food-truck-festival/
LOCATION:Freehold\, United States
CATEGORIES:Event
END:VEVENT
BEGIN:VEVENT
DTSTART;TZID=America/New_York:20200612T170000
DTEND;TZID=America/New_York:20200612T170000
DTSTAMP:20260423T181918
CREATED:20191011T214413Z
LAST-MODIFIED:20200406T203518Z
UID:758-1591981200-1591981200@www.workplaygive.net
SUMMARY:American Cancer Society - Relay for Life
DESCRIPTION:American Cancer Society
URL:https://www.workplaygive.net/event/relay-for-life-3/
END:VEVENT
BEGIN:VEVENT
DTSTART;TZID=America/New_York:20200612T000000
DTEND;TZID=America/New_York:20200612T000000
DTSTAMP:20260423T181918
CREATED:20200406T232132Z
LAST-MODIFIED:20200407T142416Z
UID:958-1591920000-1591920000@www.workplaygive.net
SUMMARY:Ocean County College Foundation - Scholarship Event
DESCRIPTION:Scholarship Event
URL:https://www.workplaygive.net/event/ocean-county-college-foundation-scholarship-event/
LOCATION:TBD\, United States
CATEGORIES:Education
END:VEVENT
END:VCALENDAR