BEGIN:VCALENDAR
VERSION:2.0
PRODID:-//Work Play Give Philanthropic Solutions - ECPv6.11.2.1//NONSGML v1.0//EN
CALSCALE:GREGORIAN
METHOD:PUBLISH
X-WR-CALNAME:Work Play Give Philanthropic Solutions
X-ORIGINAL-URL:https://www.workplaygive.net
X-WR-CALDESC:Events for Work Play Give Philanthropic Solutions
REFRESH-INTERVAL;VALUE=DURATION:PT1H
X-Robots-Tag:noindex
X-PUBLISHED-TTL:PT1H
BEGIN:VTIMEZONE
TZID:America/New_York
BEGIN:DAYLIGHT
TZOFFSETFROM:-0500
TZOFFSETTO:-0400
TZNAME:EDT
DTSTART:20190310T070000
END:DAYLIGHT
BEGIN:STANDARD
TZOFFSETFROM:-0400
TZOFFSETTO:-0500
TZNAME:EST
DTSTART:20191103T060000
END:STANDARD
BEGIN:DAYLIGHT
TZOFFSETFROM:-0500
TZOFFSETTO:-0400
TZNAME:EDT
DTSTART:20200308T070000
END:DAYLIGHT
BEGIN:STANDARD
TZOFFSETFROM:-0400
TZOFFSETTO:-0500
TZNAME:EST
DTSTART:20201101T060000
END:STANDARD
END:VTIMEZONE
BEGIN:VEVENT
DTSTART;TZID=America/New_York:20200527T000000
DTEND;TZID=America/New_York:20200527T000000
DTSTAMP:20260424T014006
CREATED:20200406T232126Z
LAST-MODIFIED:20200406T233257Z
UID:950-1590537600-1590537600@www.workplaygive.net
SUMMARY:Jersey Shore Chamber - BizExpo
DESCRIPTION:BizExpo
URL:https://www.workplaygive.net/event/jersey-shore-chamber-bizexpo/
LOCATION:Jumping Brook CC\, United States
CATEGORIES:Exhibition
END:VEVENT
BEGIN:VEVENT
DTSTART;TZID=America/New_York:20200521T113000
DTEND;TZID=America/New_York:20200521T113000
DTSTAMP:20260424T014006
CREATED:20200206T155322Z
LAST-MODIFIED:20200406T203910Z
UID:851-1590060600-1590060600@www.workplaygive.net
SUMMARY:American Heart Association - Garden State Go Red For Women Luncheon
DESCRIPTION:American Heart Association
URL:https://www.workplaygive.net/event/garden-state-go-red-for-women-luncheon/
LOCATION:The Palace at Somerset Park\, 333 Davidson Ave\, Somerset\, NJ\, 08873\, United States
END:VEVENT
BEGIN:VEVENT
DTSTART;TZID=America/New_York:20200518T000000
DTEND;TZID=America/New_York:20200518T000000
DTSTAMP:20260424T014006
CREATED:20200406T232126Z
LAST-MODIFIED:20200406T233154Z
UID:949-1589760000-1589760000@www.workplaygive.net
SUMMARY:YMCA Greater Monmouth - Golf Outing
DESCRIPTION:Golf Outing
URL:https://www.workplaygive.net/event/ymca-greater-monmouth-golf-outing/
LOCATION:Eagle Oaks Country Club\, 20 Shore Oaks Dr\, Farmingdale\, NJ\, 07727\, United States
CATEGORIES:Golf Event
END:VEVENT
BEGIN:VEVENT
DTSTART;TZID=America/New_York:20200516T120000
DTEND;TZID=America/New_York:20200516T120000
DTSTAMP:20260424T014006
CREATED:20191011T214410Z
LAST-MODIFIED:20200406T203615Z
UID:756-1589630400-1589630400@www.workplaygive.net
SUMMARY:American Cancer Society - Relay for Life
DESCRIPTION:American Cancer Society
URL:https://www.workplaygive.net/event/relay-for-life/
LOCATION:New Jersey
END:VEVENT
BEGIN:VEVENT
DTSTART;TZID=America/New_York:20200515T200000
DTEND;TZID=America/New_York:20200515T200000
DTSTAMP:20260424T014006
CREATED:20200206T155320Z
LAST-MODIFIED:20200406T203720Z
UID:850-1589572800-1589572800@www.workplaygive.net
SUMMARY:Monmouth Day Care - BRINGING BACK THE 80'S
DESCRIPTION:Monmouth Day Care
URL:https://www.workplaygive.net/event/bringing-back-the-80s/
LOCATION:Asbury Lanes\, 209 4th Ave\, Asbury Park\, NJ\, 07712\, United States
END:VEVENT
BEGIN:VEVENT
DTSTART;TZID=America/New_York:20200514T180000
DTEND;TZID=America/New_York:20200514T180000
DTSTAMP:20260424T014006
CREATED:20200206T155318Z
LAST-MODIFIED:20200406T203649Z
UID:849-1589479200-1589479200@www.workplaygive.net
SUMMARY:Red Cross - Celebrate Red! Gala
DESCRIPTION:Red Cross
URL:https://www.workplaygive.net/event/celebrate-red-gala-2/
LOCATION:Park Avenue Club\, Florham Park\, New Jersey\, United States
END:VEVENT
BEGIN:VEVENT
DTSTART;TZID=America/New_York:20200508T000000
DTEND;TZID=America/New_York:20200508T000000
DTSTAMP:20260424T014006
CREATED:20200406T232126Z
LAST-MODIFIED:20200406T233032Z
UID:947-1588896000-1588896000@www.workplaygive.net
SUMMARY:Monmouth Conservation Foundation - Hops & Grapes
DESCRIPTION:Hops & Grapes
URL:https://www.workplaygive.net/event/monmouth-conservation-foundation-hops-grapes/
LOCATION:Monmouth Conservation Foundation\, NJ\, United States
CATEGORIES:Fundraiser
END:VEVENT
BEGIN:VEVENT
DTSTART;TZID=America/New_York:20200508T000000
DTEND;TZID=America/New_York:20200508T000000
DTSTAMP:20260424T014006
CREATED:20200406T232126Z
LAST-MODIFIED:20200406T232847Z
UID:948-1588896000-1588896000@www.workplaygive.net
SUMMARY:180 Turning Lives Around - Annual Dinner
DESCRIPTION:Annual Dinner
URL:https://www.workplaygive.net/event/180-turning-lives-around-annual-dinner/
LOCATION:Parker Homestead\, United States
CATEGORIES:Dinner
END:VEVENT
BEGIN:VEVENT
DTSTART;TZID=America/New_York:20200501T190000
DTEND;TZID=America/New_York:20200501T190000
DTSTAMP:20260424T014006
CREATED:20200206T155315Z
LAST-MODIFIED:20200406T203937Z
UID:848-1588359600-1588359600@www.workplaygive.net
SUMMARY:American Cancer Society - 2020 Night of Wine and Roses NJ
DESCRIPTION:American Cancer Society
URL:https://www.workplaygive.net/event/2020-night-of-wine-and-roses-nj/
LOCATION:The Palace at Somerset Park\, 333 Davidson Ave\, Somerset\, NJ\, 08873\, United States
END:VEVENT
BEGIN:VEVENT
DTSTART;TZID=America/New_York:20200430T000000
DTEND;TZID=America/New_York:20200430T000000
DTSTAMP:20260424T014006
CREATED:20200406T232126Z
LAST-MODIFIED:20200406T232718Z
UID:946-1588204800-1588204800@www.workplaygive.net
SUMMARY:Monmouth Conservation Foundation - Rooftop Party
DESCRIPTION:Rooftop Party
URL:https://www.workplaygive.net/event/monmouth-conservation-foundation-rooftop-party/
LOCATION:Red Bank Lofts\, United States
END:VEVENT
BEGIN:VEVENT
DTSTART;TZID=America/New_York:20200425T090000
DTEND;TZID=America/New_York:20200425T090000
DTSTAMP:20260424T014006
CREATED:20200206T155313Z
LAST-MODIFIED:20200406T203119Z
UID:847-1587805200-1587805200@www.workplaygive.net
SUMMARY:Big Brothers Big Sisters - Asbury Park Tutu 2.2
DESCRIPTION:Big Brothers Big Sisters
URL:https://www.workplaygive.net/event/asbury-park-tutu-2-2/
LOCATION:Asbury Festhalle & Biergarten\, Asbury Park\, New Jersey\, 07712\, United States
END:VEVENT
BEGIN:VEVENT
DTSTART;TZID=America/New_York:20200403T190000
DTEND;TZID=America/New_York:20200403T190000
DTSTAMP:20260424T014006
CREATED:20200206T155312Z
LAST-MODIFIED:20200206T162102Z
UID:846-1585940400-1585940400@www.workplaygive.net
SUMMARY:2020 Hope Gala NJ
DESCRIPTION:American Cancer Society
URL:https://www.workplaygive.net/event/2020-hope-gala-nj/
LOCATION:The Merion\, Cinnaminson\, New Jersey\, United States
END:VEVENT
BEGIN:VEVENT
DTSTART;TZID=America/New_York:20200328T190000
DTEND;TZID=America/New_York:20200328T190000
DTSTAMP:20260424T014006
CREATED:20200206T155311Z
LAST-MODIFIED:20200206T181736Z
UID:845-1585422000-1585422000@www.workplaygive.net
SUMMARY:A Most Unusual Evening 2020
DESCRIPTION:Boys and Girls Club
URL:https://www.workplaygive.net/event/a-most-unusual-evening-2020/
LOCATION:Asbury Lanes\, 209 4th Ave\, Asbury Park\, NJ\, 07712\, United States
END:VEVENT
BEGIN:VEVENT
DTSTART;TZID=America/New_York:20200326T180000
DTEND;TZID=America/New_York:20200326T180000
DTSTAMP:20260424T014006
CREATED:20200206T155310Z
LAST-MODIFIED:20200206T162102Z
UID:844-1585245600-1585245600@www.workplaygive.net
SUMMARY:Raising Spirits
DESCRIPTION:Red Cross
URL:https://www.workplaygive.net/event/raising-spirits-2/
LOCATION:The Smithville Inn\, New Jersey\, United States
END:VEVENT
BEGIN:VEVENT
DTSTART;TZID=America/New_York:20200312T183000
DTEND;TZID=America/New_York:20200312T183000
DTSTAMP:20260424T014006
CREATED:20200206T155307Z
LAST-MODIFIED:20200206T162059Z
UID:843-1584037800-1584037800@www.workplaygive.net
SUMMARY:Power of the Purse
DESCRIPTION:Red Cross
URL:https://www.workplaygive.net/event/power-of-the-purse-2/
LOCATION:Lucien’s Manor\, Berlin\, New Jersey\, United States
END:VEVENT
BEGIN:VEVENT
DTSTART;TZID=America/New_York:20200219T083000
DTEND;TZID=America/New_York:20200219T093000
DTSTAMP:20260424T014006
CREATED:20200206T155307Z
LAST-MODIFIED:20200206T165652Z
UID:842-1582101000-1582104600@www.workplaygive.net
SUMMARY:CoLAB Education and Networking for Nonprofit Leaders
DESCRIPTION:Junior League of Monmouth County
URL:https://www.workplaygive.net/event/colab-education-and-networking-for-nonprofit-leaders/
LOCATION:Asbury Lanes\, 209 4th Ave\, Asbury Park\, NJ\, 07712\, United States
ORGANIZER;CN="Junior League of Monmouth County":MAILTO:communications@jlmc.org
END:VEVENT
BEGIN:VEVENT
DTSTART;TZID=America/New_York:20200208T170000
DTEND;TZID=America/New_York:20200208T170000
DTSTAMP:20260424T014006
CREATED:20200206T155307Z
LAST-MODIFIED:20200206T181618Z
UID:841-1581181200-1581181200@www.workplaygive.net
SUMMARY:The Heldrich Craft Beer and Spirit Festival
DESCRIPTION:The Heldrich Craft Beer and Spirit Festival
URL:https://www.workplaygive.net/event/the-heldrich-craft-beer-and-spirit-festival/
LOCATION:The Heldrich Hotel\, 10 Livingston Ave\, New Brunswick\, NJ\, 08901\, United States
END:VEVENT
BEGIN:VEVENT
DTSTART;TZID=America/New_York:20200206T113000
DTEND;TZID=America/New_York:20200206T113000
DTSTAMP:20260424T014006
CREATED:20200206T155306Z
LAST-MODIFIED:20200206T162059Z
UID:840-1580988600-1580988600@www.workplaygive.net
SUMMARY:Red Ladies Luncheon
DESCRIPTION:Monmouth County Historical Association
URL:https://www.workplaygive.net/event/red-ladies-luncheon/
LOCATION:Rumson Country Club\, Rumson\, New Jersey\, United States
END:VEVENT
BEGIN:VEVENT
DTSTART;TZID=America/New_York:20200201T130000
DTEND;TZID=America/New_York:20200201T130000
DTSTAMP:20260424T014006
CREATED:20191011T214408Z
LAST-MODIFIED:20191011T214408Z
UID:755-1580562000-1580562000@www.workplaygive.net
SUMMARY:Fit Crawl
DESCRIPTION:
URL:https://www.workplaygive.net/event/fit-crawl/
LOCATION:New Jersey
END:VEVENT
BEGIN:VEVENT
DTSTART;TZID=America/New_York:20200201T110000
DTEND;TZID=America/New_York:20201231T170000
DTSTAMP:20260424T014006
CREATED:20200206T155306Z
LAST-MODIFIED:20200407T145823Z
UID:839-1580554800-1609434000@www.workplaygive.net
SUMMARY:Monmouth County Historical Association - Springsteen Dancing in the Dark
DESCRIPTION:Monmouth County Historical Association\nThe museum is closed until further notice for the safety of our visitors and staff.\nThe Monmouth County Historical Association (MCHA)\, located in Freehold\, NJ\, is proud to announce the opening of “Springsteen: His Hometown”\, an historical exhibit that will provide a comprehensive look of how Monmouth County\, NJ has been thematically woven into Bruce Springsteen’s music and art throughout his career.  “Springsteen: His Hometown” will display over 150 unique items featuring selections from both the Monmouth County Historical Association and The Bruce Springsteen Archives and Center for American Music at Monmouth University. \nExhibition presented by the Monmouth County Historical Association in cooperation with The Bruce Springsteen Archives and Center for American Music at Monmouth University. \nSunday: 11AM – 5PM\nMonday: Closed\nTuesday: Closed\nWednesday: 11AM – 5PM\nThursday: 11AM – 8PM\nFriday: 11AM – 5PM\nSaturday: 11AM – 5PM
URL:https://www.workplaygive.net/event/springsteen-dancing-in-the-dark/
LOCATION:Monmouth County Historical Association Museum Freehold\, 70 Court Street\, Freehold\, NJ\, 07728\, United States
CATEGORIES:Exhibition
END:VEVENT
BEGIN:VEVENT
DTSTART;TZID=America/New_York:20191212T120000
DTEND;TZID=America/New_York:20191212T130000
DTSTAMP:20260424T014006
CREATED:20190320T172330Z
LAST-MODIFIED:20190320T182942Z
UID:529-1576152000-1576155600@www.workplaygive.net
SUMMARY:Golf Outing
DESCRIPTION:
URL:https://www.workplaygive.net/event/golf-outing/
LOCATION:Eagle Oaks Country Club\, 20 Shore Oaks Dr\, Farmingdale\, NJ\, 07727\, United States
CATEGORIES:Golf Event
END:VEVENT
BEGIN:VEVENT
DTSTART;TZID=America/New_York:20191212T113000
DTEND;TZID=America/New_York:20191212T113000
DTSTAMP:20260424T014006
CREATED:20190320T183136Z
LAST-MODIFIED:20191011T214408Z
UID:709-1576150200-1576150200@www.workplaygive.net
SUMMARY:Pollak Holiday Luncheon
DESCRIPTION:
URL:https://www.workplaygive.net/event/pollak-holiday-luncheon/
LOCATION:Deal Golf and Country Club\, Deal\, New Jersey\, United States
END:VEVENT
BEGIN:VEVENT
DTSTART;TZID=America/New_York:20191212T000000
DTEND;TZID=America/New_York:20191212T010000
DTSTAMP:20260424T014006
CREATED:20190320T172330Z
LAST-MODIFIED:20190320T182725Z
UID:528-1576108800-1576112400@www.workplaygive.net
SUMMARY:Summer Gala
DESCRIPTION:
URL:https://www.workplaygive.net/event/__trashed-17__trashed/
LOCATION:Count Basie Center for the Arts\, Red Bank\, New Jersey\, United States
END:VEVENT
BEGIN:VEVENT
DTSTART;TZID=America/New_York:20191208T083000
DTEND;TZID=America/New_York:20191208T083000
DTSTAMP:20260424T014006
CREATED:20191011T214406Z
LAST-MODIFIED:20191011T215718Z
UID:752-1575793800-1575793800@www.workplaygive.net
SUMMARY:Run For The Red
DESCRIPTION:
URL:https://www.workplaygive.net/event/run-for-the-red/
LOCATION:Millburn Free Public Library\, Millburn\, New Jersey\, United States
END:VEVENT
BEGIN:VEVENT
DTSTART;TZID=America/New_York:20191124T170000
DTEND;TZID=America/New_York:20191124T170000
DTSTAMP:20260424T014006
CREATED:20190320T172328Z
LAST-MODIFIED:20191011T215718Z
UID:514-1574614800-1574614800@www.workplaygive.net
SUMMARY:2019 Diamond Ball Gala NJ
DESCRIPTION:
URL:https://www.workplaygive.net/event/__trashed-4__trashed/
LOCATION:Westmont Country Club\, Woodland Park\, New Jersey\, United States
END:VEVENT
BEGIN:VEVENT
DTSTART;TZID=America/New_York:20191121T190000
DTEND;TZID=America/New_York:20191121T190000
DTSTAMP:20260424T014006
CREATED:20191011T214406Z
LAST-MODIFIED:20191011T215718Z
UID:751-1574362800-1574362800@www.workplaygive.net
SUMMARY:Starry Night Soiree
DESCRIPTION:
URL:https://www.workplaygive.net/event/starry-night-soiree/
LOCATION:Felina Ridgewood\, New Jersey\, United States
END:VEVENT
BEGIN:VEVENT
DTSTART;TZID=America/New_York:20191121T180000
DTEND;TZID=America/New_York:20191121T180000
DTSTAMP:20260424T014006
CREATED:20191011T214405Z
LAST-MODIFIED:20191011T215716Z
UID:750-1574359200-1574359200@www.workplaygive.net
SUMMARY:Tides of Change Gala
DESCRIPTION:
URL:https://www.workplaygive.net/event/tides-of-change-gala/
LOCATION:Eagle Oaks Country Club\, 20 Shore Oaks Dr\, Farmingdale\, NJ\, 07727\, United States
END:VEVENT
BEGIN:VEVENT
DTSTART;TZID=America/New_York:20191115T200000
DTEND;TZID=America/New_York:20191115T200000
DTSTAMP:20260424T014006
CREATED:20191011T214405Z
LAST-MODIFIED:20191011T215716Z
UID:749-1573848000-1573848000@www.workplaygive.net
SUMMARY:Champion of the Year Gala
DESCRIPTION:
URL:https://www.workplaygive.net/event/champion-of-the-year-gala/
LOCATION:The Bethwood\, Totowa\, New Jersey\, United States
END:VEVENT
BEGIN:VEVENT
DTSTART;TZID=America/New_York:20191112T190000
DTEND;TZID=America/New_York:20191112T190000
DTSTAMP:20260424T014006
CREATED:20191011T214404Z
LAST-MODIFIED:20191011T215716Z
UID:748-1573585200-1573585200@www.workplaygive.net
SUMMARY:Fall Oz Pearlman Event
DESCRIPTION:
URL:https://www.workplaygive.net/event/fall-oz-pearlman-event/
LOCATION:Robert Treat Hotel\, Newark\, New Jersey\, United States
END:VEVENT
BEGIN:VEVENT
DTSTART;TZID=America/New_York:20191102T073000
DTEND;TZID=America/New_York:20191102T073000
DTSTAMP:20260424T014006
CREATED:20191011T214404Z
LAST-MODIFIED:20191011T215716Z
UID:747-1572679800-1572679800@www.workplaygive.net
SUMMARY:Running With The Devils 5K Run and Walk
DESCRIPTION:
URL:https://www.workplaygive.net/event/running-with-the-devils-5k-run-and-walk/
LOCATION:South Mountain Recreation Complex\, West Orange\, New Jersey\, United States
END:VEVENT
END:VCALENDAR