BEGIN:VCALENDAR
VERSION:2.0
PRODID:-//Work Play Give Philanthropic Solutions - ECPv6.11.2.1//NONSGML v1.0//EN
CALSCALE:GREGORIAN
METHOD:PUBLISH
X-ORIGINAL-URL:https://www.workplaygive.net
X-WR-CALDESC:Events for Work Play Give Philanthropic Solutions
REFRESH-INTERVAL;VALUE=DURATION:PT1H
X-Robots-Tag:noindex
X-PUBLISHED-TTL:PT1H
BEGIN:VTIMEZONE
TZID:America/New_York
BEGIN:DAYLIGHT
TZOFFSETFROM:-0500
TZOFFSETTO:-0400
TZNAME:EDT
DTSTART:20190310T070000
END:DAYLIGHT
BEGIN:STANDARD
TZOFFSETFROM:-0400
TZOFFSETTO:-0500
TZNAME:EST
DTSTART:20191103T060000
END:STANDARD
END:VTIMEZONE
BEGIN:VEVENT
DTSTART;TZID=America/New_York:20191212T120000
DTEND;TZID=America/New_York:20191212T130000
DTSTAMP:20260424T050530
CREATED:20190320T172330Z
LAST-MODIFIED:20190320T182942Z
UID:529-1576152000-1576155600@www.workplaygive.net
SUMMARY:Golf Outing
DESCRIPTION:
URL:https://www.workplaygive.net/event/golf-outing/
LOCATION:Eagle Oaks Country Club\, 20 Shore Oaks Dr\, Farmingdale\, NJ\, 07727\, United States
CATEGORIES:Golf Event
END:VEVENT
BEGIN:VEVENT
DTSTART;TZID=America/New_York:20191212T113000
DTEND;TZID=America/New_York:20191212T113000
DTSTAMP:20260424T050530
CREATED:20190320T183136Z
LAST-MODIFIED:20191011T214408Z
UID:709-1576150200-1576150200@www.workplaygive.net
SUMMARY:Pollak Holiday Luncheon
DESCRIPTION:
URL:https://www.workplaygive.net/event/pollak-holiday-luncheon/
LOCATION:Deal Golf and Country Club\, Deal\, New Jersey\, United States
END:VEVENT
BEGIN:VEVENT
DTSTART;TZID=America/New_York:20191212T000000
DTEND;TZID=America/New_York:20191212T010000
DTSTAMP:20260424T050530
CREATED:20190320T172330Z
LAST-MODIFIED:20190320T182725Z
UID:528-1576108800-1576112400@www.workplaygive.net
SUMMARY:Summer Gala
DESCRIPTION:
URL:https://www.workplaygive.net/event/__trashed-17__trashed/
LOCATION:Count Basie Center for the Arts\, Red Bank\, New Jersey\, United States
END:VEVENT
BEGIN:VEVENT
DTSTART;TZID=America/New_York:20191208T083000
DTEND;TZID=America/New_York:20191208T083000
DTSTAMP:20260424T050530
CREATED:20191011T214406Z
LAST-MODIFIED:20191011T215718Z
UID:752-1575793800-1575793800@www.workplaygive.net
SUMMARY:Run For The Red
DESCRIPTION:
URL:https://www.workplaygive.net/event/run-for-the-red/
LOCATION:Millburn Free Public Library\, Millburn\, New Jersey\, United States
END:VEVENT
BEGIN:VEVENT
DTSTART;TZID=America/New_York:20191124T170000
DTEND;TZID=America/New_York:20191124T170000
DTSTAMP:20260424T050530
CREATED:20190320T172328Z
LAST-MODIFIED:20191011T215718Z
UID:514-1574614800-1574614800@www.workplaygive.net
SUMMARY:2019 Diamond Ball Gala NJ
DESCRIPTION:
URL:https://www.workplaygive.net/event/__trashed-4__trashed/
LOCATION:Westmont Country Club\, Woodland Park\, New Jersey\, United States
END:VEVENT
BEGIN:VEVENT
DTSTART;TZID=America/New_York:20191121T190000
DTEND;TZID=America/New_York:20191121T190000
DTSTAMP:20260424T050530
CREATED:20191011T214406Z
LAST-MODIFIED:20191011T215718Z
UID:751-1574362800-1574362800@www.workplaygive.net
SUMMARY:Starry Night Soiree
DESCRIPTION:
URL:https://www.workplaygive.net/event/starry-night-soiree/
LOCATION:Felina Ridgewood\, New Jersey\, United States
END:VEVENT
BEGIN:VEVENT
DTSTART;TZID=America/New_York:20191121T180000
DTEND;TZID=America/New_York:20191121T180000
DTSTAMP:20260424T050530
CREATED:20191011T214405Z
LAST-MODIFIED:20191011T215716Z
UID:750-1574359200-1574359200@www.workplaygive.net
SUMMARY:Tides of Change Gala
DESCRIPTION:
URL:https://www.workplaygive.net/event/tides-of-change-gala/
LOCATION:Eagle Oaks Country Club\, 20 Shore Oaks Dr\, Farmingdale\, NJ\, 07727\, United States
END:VEVENT
BEGIN:VEVENT
DTSTART;TZID=America/New_York:20191115T200000
DTEND;TZID=America/New_York:20191115T200000
DTSTAMP:20260424T050530
CREATED:20191011T214405Z
LAST-MODIFIED:20191011T215716Z
UID:749-1573848000-1573848000@www.workplaygive.net
SUMMARY:Champion of the Year Gala
DESCRIPTION:
URL:https://www.workplaygive.net/event/champion-of-the-year-gala/
LOCATION:The Bethwood\, Totowa\, New Jersey\, United States
END:VEVENT
BEGIN:VEVENT
DTSTART;TZID=America/New_York:20191112T190000
DTEND;TZID=America/New_York:20191112T190000
DTSTAMP:20260424T050530
CREATED:20191011T214404Z
LAST-MODIFIED:20191011T215716Z
UID:748-1573585200-1573585200@www.workplaygive.net
SUMMARY:Fall Oz Pearlman Event
DESCRIPTION:
URL:https://www.workplaygive.net/event/fall-oz-pearlman-event/
LOCATION:Robert Treat Hotel\, Newark\, New Jersey\, United States
END:VEVENT
BEGIN:VEVENT
DTSTART;TZID=America/New_York:20191102T073000
DTEND;TZID=America/New_York:20191102T073000
DTSTAMP:20260424T050531
CREATED:20191011T214404Z
LAST-MODIFIED:20191011T215716Z
UID:747-1572679800-1572679800@www.workplaygive.net
SUMMARY:Running With The Devils 5K Run and Walk
DESCRIPTION:
URL:https://www.workplaygive.net/event/running-with-the-devils-5k-run-and-walk/
LOCATION:South Mountain Recreation Complex\, West Orange\, New Jersey\, United States
END:VEVENT
BEGIN:VEVENT
DTSTART;TZID=America/New_York:20191101T113000
DTEND;TZID=America/New_York:20191101T113000
DTSTAMP:20260424T050531
CREATED:20191011T214404Z
LAST-MODIFIED:20191011T215716Z
UID:746-1572607800-1572607800@www.workplaygive.net
SUMMARY:Women Making A Difference Luncheon
DESCRIPTION:
URL:https://www.workplaygive.net/event/women-making-a-difference-luncheon/
LOCATION:Navesink Country Club\, Middletown\, New Jersey\, United States
END:VEVENT
BEGIN:VEVENT
DTSTART;TZID=America/New_York:20191027T083000
DTEND;TZID=America/New_York:20191027T083000
DTSTAMP:20260424T050531
CREATED:20191011T214403Z
LAST-MODIFIED:20191011T215714Z
UID:745-1572165000-1572165000@www.workplaygive.net
SUMMARY:Making Strides Against Breast Cancer Walk
DESCRIPTION:
URL:https://www.workplaygive.net/event/making-strides-against-breast-cancer-walk-2/
LOCATION:Johnson Park\, Piscataway\, New Jersey\, United States
END:VEVENT
BEGIN:VEVENT
DTSTART;TZID=America/New_York:20191025T183000
DTEND;TZID=America/New_York:20191025T183000
DTSTAMP:20260424T050531
CREATED:20191011T214403Z
LAST-MODIFIED:20191011T215714Z
UID:744-1572028200-1572028200@www.workplaygive.net
SUMMARY:The Big Picture Gala
DESCRIPTION:
URL:https://www.workplaygive.net/event/the-big-picture-gala/
LOCATION:Berkeley Oceanfront Hotel\, Asbury Park\, New Jersey\, United States
END:VEVENT
BEGIN:VEVENT
DTSTART;TZID=America/New_York:20191020T080000
DTEND;TZID=America/New_York:20191020T080000
DTSTAMP:20260424T050531
CREATED:20191011T214403Z
LAST-MODIFIED:20191011T215714Z
UID:743-1571558400-1571558400@www.workplaygive.net
SUMMARY:Making Strides Against Breast Cancer Walk
DESCRIPTION:
URL:https://www.workplaygive.net/event/making-strides-against-breast-cancer-walk/
LOCATION:Point Pleasant Beach\, Point Pleasant Beach\, New Jersey\, United States
END:VEVENT
BEGIN:VEVENT
DTSTART;TZID=America/New_York:20191019T190000
DTEND;TZID=America/New_York:20191019T190000
DTSTAMP:20260424T050531
CREATED:20191011T214403Z
LAST-MODIFIED:20191011T215714Z
UID:742-1571511600-1571511600@www.workplaygive.net
SUMMARY:2019 Annual Charity Super Sampling Event
DESCRIPTION:
URL:https://www.workplaygive.net/event/2019-annual-charity-super-sampling-event/
LOCATION:Eagle Oaks Country Club\, 20 Shore Oaks Dr\, Farmingdale\, NJ\, 07727\, United States
END:VEVENT
BEGIN:VEVENT
DTSTART;TZID=America/New_York:20191014T103000
DTEND;TZID=America/New_York:20191014T103000
DTSTAMP:20260424T050531
CREATED:20191011T214403Z
LAST-MODIFIED:20191011T215714Z
UID:741-1571049000-1571049000@www.workplaygive.net
SUMMARY:Red Tee Golf Classic
DESCRIPTION:
URL:https://www.workplaygive.net/event/red-tee-golf-classic/
LOCATION:Woodcrest Country Club\, Cherry Hill\, New Jersey\, United States
END:VEVENT
BEGIN:VEVENT
DTSTART;TZID=America/New_York:20191013T090000
DTEND;TZID=America/New_York:20191013T090000
DTSTAMP:20260424T050531
CREATED:20191011T214358Z
LAST-MODIFIED:20191011T215707Z
UID:740-1570957200-1570957200@www.workplaygive.net
SUMMARY:The Valerie Fun 5K Run & Walk
DESCRIPTION:
URL:https://www.workplaygive.net/event/the-valerie-fun-5k-run-walk/
LOCATION:The Great Lawn Pavilion Amphitheater\, Long Branch\, New Jersey\, United States
END:VEVENT
BEGIN:VEVENT
DTSTART;TZID=America/New_York:20191013T080000
DTEND;TZID=America/New_York:20191013T080000
DTSTAMP:20260424T050531
CREATED:20191011T214358Z
LAST-MODIFIED:20191011T215707Z
UID:739-1570953600-1570953600@www.workplaygive.net
SUMMARY:Central NJ Heart Walk
DESCRIPTION:
URL:https://www.workplaygive.net/event/central-nj-heart-walk/
LOCATION:Thompson Park\, Jamesburg\, New Jersey\, United States
END:VEVENT
BEGIN:VEVENT
DTSTART;TZID=America/New_York:20191012T000000
DTEND;TZID=America/New_York:20191012T010000
DTSTAMP:20260424T050531
CREATED:20190320T172330Z
LAST-MODIFIED:20190320T182551Z
UID:525-1570838400-1570842000@www.workplaygive.net
SUMMARY:Annual Gala
DESCRIPTION:
URL:https://www.workplaygive.net/event/annual-gala/
LOCATION:TBD\, United States
END:VEVENT
BEGIN:VEVENT
DTSTART;TZID=America/New_York:20191006T180000
DTEND;TZID=America/New_York:20191006T180000
DTSTAMP:20260424T050531
CREATED:20191011T214358Z
LAST-MODIFIED:20191011T215707Z
UID:738-1570384800-1570384800@www.workplaygive.net
SUMMARY:The Valerie Center Dinner
DESCRIPTION:
URL:https://www.workplaygive.net/event/the-valerie-center-dinner/
LOCATION:Yumi\, Sea Bright\, New Jersey\, United States
END:VEVENT
BEGIN:VEVENT
DTSTART;TZID=America/New_York:20191006T090000
DTEND;TZID=America/New_York:20191006T090000
DTSTAMP:20260424T050531
CREATED:20191011T214357Z
LAST-MODIFIED:20191011T215707Z
UID:737-1570352400-1570352400@www.workplaygive.net
SUMMARY:Shoreline Heart Walk
DESCRIPTION:
URL:https://www.workplaygive.net/event/shoreline-heart-walk/
LOCATION:Asbury Park Boardwalk\, Asbury Park\, New Jersey\, United States
END:VEVENT
BEGIN:VEVENT
DTSTART;TZID=America/New_York:20191005T180000
DTEND;TZID=America/New_York:20191005T180000
DTSTAMP:20260424T050531
CREATED:20191011T214357Z
LAST-MODIFIED:20191011T215707Z
UID:736-1570298400-1570298400@www.workplaygive.net
SUMMARY:Roaring Twenties on the Beach
DESCRIPTION:
URL:https://www.workplaygive.net/event/roaring-twenties-on-the-beach/
LOCATION:Edgewater Beach and Cabana Club\, Sea Bright\, New Jersey\, United States
END:VEVENT
BEGIN:VEVENT
DTSTART;TZID=America/New_York:20190928T000000
DTEND;TZID=America/New_York:20190928T010000
DTSTAMP:20260424T050531
CREATED:20190320T172339Z
LAST-MODIFIED:20190320T182813Z
UID:534-1569628800-1569632400@www.workplaygive.net
SUMMARY:Springsteen at the Museum
DESCRIPTION:
URL:https://www.workplaygive.net/event/__trashed-23__trashed/
LOCATION:Monmouth Museum\, New Jersey\, United States
END:VEVENT
BEGIN:VEVENT
DTSTART;TZID=America/New_York:20190923T090000
DTEND;TZID=America/New_York:20190923T090000
DTSTAMP:20260424T050531
CREATED:20190320T183135Z
LAST-MODIFIED:20190320T183135Z
UID:708-1569229200-1569229200@www.workplaygive.net
SUMMARY:Swing Pink
DESCRIPTION:
URL:https://www.workplaygive.net/event/swing-pink/
LOCATION:Navesink Country Club\, Middletown\, New Jersey\, United States
END:VEVENT
BEGIN:VEVENT
DTSTART;TZID=America/New_York:20190921T100000
DTEND;TZID=America/New_York:20190921T100000
DTSTAMP:20260424T050531
CREATED:20190320T183135Z
LAST-MODIFIED:20190320T183135Z
UID:702-1569060000-1569060000@www.workplaygive.net
SUMMARY:Touch A Truck
DESCRIPTION:
URL:https://www.workplaygive.net/event/touch-a-truck/
LOCATION:Red Bank Middle School\, New Jersey\, United States
END:VEVENT
BEGIN:VEVENT
DTSTART;TZID=America/New_York:20190915T110000
DTEND;TZID=America/New_York:20190915T110000
DTSTAMP:20260424T050531
CREATED:20190320T183135Z
LAST-MODIFIED:20190320T183135Z
UID:707-1568545200-1568545200@www.workplaygive.net
SUMMARY:Big Steps for Little Feet
DESCRIPTION:
URL:https://www.workplaygive.net/event/big-steps-for-little-feet/
LOCATION:Promenade Beach Front North\, Long Branch\, New Jersey\, United States
END:VEVENT
BEGIN:VEVENT
DTSTART;TZID=America/New_York:20190728T070000
DTEND;TZID=America/New_York:20190728T070000
DTSTAMP:20260424T050531
CREATED:20190320T183135Z
LAST-MODIFIED:20190320T183135Z
UID:706-1564297200-1564297200@www.workplaygive.net
SUMMARY:WhatSUP
DESCRIPTION:
URL:https://www.workplaygive.net/event/whatsup/
LOCATION:Victory Park\, Rumson\, New Jersey\, United States
END:VEVENT
BEGIN:VEVENT
DTSTART;TZID=America/New_York:20190722T103000
DTEND;TZID=America/New_York:20190722T103000
DTSTAMP:20260424T050531
CREATED:20190320T172329Z
LAST-MODIFIED:20190320T183135Z
UID:524-1563791400-1563791400@www.workplaygive.net
SUMMARY:FORE! The Kids Golf Outing
DESCRIPTION:
URL:https://www.workplaygive.net/event/__trashed-14__trashed/
LOCATION:Manasquan River Golf Club\, Manasquan\, New Jersey\, United States
END:VEVENT
BEGIN:VEVENT
DTSTART;TZID=America/New_York:20190703T183000
DTEND;TZID=America/New_York:20190703T183000
DTSTAMP:20260424T050531
CREATED:20190320T172339Z
LAST-MODIFIED:20190320T183135Z
UID:531-1562178600-1562178600@www.workplaygive.net
SUMMARY:Family Fireworks on the Navesink
DESCRIPTION:
URL:https://www.workplaygive.net/event/__trashed-22__trashed/
LOCATION:DiPiero Family home on Navesink River Road in Locust\, Locust\, New Jersey\, United States
END:VEVENT
BEGIN:VEVENT
DTSTART;TZID=America/New_York:20190623T170000
DTEND;TZID=America/New_York:20190623T170000
DTSTAMP:20260424T050531
CREATED:20190320T172340Z
LAST-MODIFIED:20190320T183135Z
UID:533-1561309200-1561309200@www.workplaygive.net
SUMMARY:Garden Party
DESCRIPTION:
URL:https://www.workplaygive.net/event/__trashed-25__trashed/
LOCATION:Private Residence\, Rumson\, New Jersey\, United States
END:VEVENT
END:VCALENDAR